BEGIN:VCALENDAR
VERSION:2.0
CALSCALE:GREGORIAN
PRODID:-//Diputació de Barcelona//DibaCMS//EN
BEGIN:VEVENT
UID:7421
DTSTAMP:20260423T004340
DTSTART:20180924T120000
DTEND:20180924T200000
SUMMARY:Exposició d'Esteve Travesa i Blanch
LOCATION:Local ACV 
METHOD:PUBLISH
X-WR-CALNAME:vallgorguina@vallgorguina.cat
X-WR-TIMEZONE:Europe/Madrid
DESCRIPTION:
URI:https://www.vallgorguina.cat/actualitat/agenda/7421-exposicio-desteve-travesa-i-blanch.html
CLASS:PUBLIC
END:VEVENT
END:VCALENDAR
