BEGIN:VCALENDAR
VERSION:2.0
CALSCALE:GREGORIAN
PRODID:-//Diputació de Barcelona//DibaCMS//EN
BEGIN:VEVENT
UID:7425
DTSTAMP:20260423T062253
DTSTART:20180923T100000
DTEND:20180923T140000
SUMMARY:Passejada guiada pel parc des de Vallgorguina: Tapioles i la Pedra Gentil
LOCATION:Trobada a les 10h davant l'Ajuntament 
METHOD:PUBLISH
X-WR-CALNAME:vallgorguina@vallgorguina.cat
X-WR-TIMEZONE:Europe/Madrid
DESCRIPTION:
URI:https://www.vallgorguina.cat/actualitat/agenda/passejada-guiada-pel-parc-des-de-vallgorguina-tapioles-i-la-pedra-gentil.html
CLASS:PUBLIC
END:VEVENT
END:VCALENDAR
