BEGIN:VCALENDAR
VERSION:2.0
CALSCALE:GREGORIAN
PRODID:-//Diputació de Barcelona//DibaCMS//EN
BEGIN:VEVENT
UID:7430
DTSTAMP:20260423T044710
DTSTART:20180915T100000
DTEND:20180930T180000
SUMMARY:Exposició propostes de disseny presentades al concurs del programa Festa Major 2018
LOCATION:Sala d'Exposicions 
METHOD:PUBLISH
X-WR-CALNAME:vallgorguina@vallgorguina.cat
X-WR-TIMEZONE:Europe/Madrid
DESCRIPTION:
URI:https://www.vallgorguina.cat/actualitat/agenda/7430-exposicio-propostes-de-disseny-presentades-al-concurs-del-programa-festa-major-2018.html
CLASS:PUBLIC
END:VEVENT
END:VCALENDAR
