BEGIN:VCALENDAR
VERSION:2.0
CALSCALE:GREGORIAN
PRODID:-//Diputació de Barcelona//DibaCMS//EN
BEGIN:VEVENT
UID:7438
DTSTAMP:20260422T205537
DTSTART:20181002T163000
DTEND:20181002T180000
SUMMARY:Xerrada per a famílies sobre seguretat a Internet
LOCATION:Aula d'anglès de l'Escola Vallgorguina 
METHOD:PUBLISH
X-WR-CALNAME:vallgorguina@vallgorguina.cat
X-WR-TIMEZONE:Europe/Madrid
DESCRIPTION:
URI:https://www.vallgorguina.cat/actualitat/agenda/xerrada-per-a-families-sobre-seguretat-a-internet.html
CLASS:PUBLIC
END:VEVENT
END:VCALENDAR
