BEGIN:VCALENDAR
VERSION:2.0
CALSCALE:GREGORIAN
PRODID:-//Diputació de Barcelona//DibaCMS//EN
BEGIN:VEVENT
UID:7447
DTSTAMP:20260422T205650
DTSTART:20181026T190000
DTEND:20181026T203000
SUMMARY:Fem balanç i propostes Festa Major
LOCATION:Sala de Plens de l'Ajuntament 
METHOD:PUBLISH
X-WR-CALNAME:vallgorguina@vallgorguina.cat
X-WR-TIMEZONE:Europe/Madrid
DESCRIPTION:
URI:https://www.vallgorguina.cat/actualitat/agenda/fem-balanc-i-propostes-festa-major.html
CLASS:PUBLIC
END:VEVENT
END:VCALENDAR
