BEGIN:VCALENDAR
VERSION:2.0
CALSCALE:GREGORIAN
PRODID:-//Diputació de Barcelona//DibaCMS//EN
BEGIN:VEVENT
UID:7449
DTSTAMP:20260423T094920
DTSTART:20180927T190000
DTEND:20180929T200000
SUMMARY:Entrega de premis concurs pintura ràpida 2018
LOCATION:Sala d'Exposicions 
METHOD:PUBLISH
X-WR-CALNAME:vallgorguina@vallgorguina.cat
X-WR-TIMEZONE:Europe/Madrid
DESCRIPTION:
URI:https://www.vallgorguina.cat/actualitat/agenda/entrega-de-premis-concurs-pintura-rapida-2018.html
CLASS:PUBLIC
END:VEVENT
END:VCALENDAR
