BEGIN:VCALENDAR
VERSION:2.0
CALSCALE:GREGORIAN
PRODID:-//Diputació de Barcelona//DibaCMS//EN
BEGIN:VEVENT
UID:7453
DTSTAMP:20260423T004358
DTSTART:20181020T000000
DTEND:20181020T000000
SUMMARY:10è Raid de Vallgorguina
LOCATION:
METHOD:PUBLISH
X-WR-CALNAME:vallgorguina@vallgorguina.cat
X-WR-TIMEZONE:Europe/Madrid
DESCRIPTION:
URI:https://www.vallgorguina.cat/actualitat/agenda/10e-raid-de-vallgorguina.html
CLASS:PUBLIC
END:VEVENT
END:VCALENDAR
