BEGIN:VCALENDAR
VERSION:2.0
CALSCALE:GREGORIAN
PRODID:-//Diputació de Barcelona//DibaCMS//EN
BEGIN:VEVENT
UID:7454
DTSTAMP:20260422T224757
DTSTART:20181021T000000
DTEND:20181021T000000
SUMMARY:13a Pedalada Bikegorguina
LOCATION:
METHOD:PUBLISH
X-WR-CALNAME:vallgorguina@vallgorguina.cat
X-WR-TIMEZONE:Europe/Madrid
DESCRIPTION:Inscripcions: www.bikegorguina.com

URI:https://www.vallgorguina.cat/actualitat/agenda/13a-pedalada-bikegorguina.html
CLASS:PUBLIC
END:VEVENT
END:VCALENDAR
