BEGIN:VCALENDAR
VERSION:2.0
CALSCALE:GREGORIAN
PRODID:-//Diputació de Barcelona//DibaCMS//EN
BEGIN:VEVENT
UID:7455
DTSTAMP:20260423T062017
DTSTART:20181020T213000
DTEND:20181020T233000
SUMMARY:Nit d’estels a Vallgorguina Viu el Parc
LOCATION:La Fàbrica 
METHOD:PUBLISH
X-WR-CALNAME:vallgorguina@vallgorguina.cat
X-WR-TIMEZONE:Europe/Madrid
DESCRIPTION:Introducció al coneixement del cel, observació dels astres a ull nu i de planetes amb el telescopi. Es comentarà de manera amena i didàctica la història de l’observació del cel.

Requisits activitat: Places limitades.

Inscripcions: nitdestelsfogars@fusic.org. Gratuït. 

Enllaç: Viu el Parc

URI:https://www.vallgorguina.cat/actualitat/agenda/nit-destels-a-vallgorguina-viu-el-parc.html
CLASS:PUBLIC
END:VEVENT
END:VCALENDAR
