BEGIN:VCALENDAR
VERSION:2.0
CALSCALE:GREGORIAN
PRODID:-//Diputació de Barcelona//DibaCMS//EN
BEGIN:VEVENT
UID:7457
DTSTAMP:20260422T190229
DTSTART:20181017T113000
DTEND:20181017T121500
SUMMARY:Oficina Mòbil d'Informació al Consumidor
LOCATION:Plaça de la Vila 
METHOD:PUBLISH
X-WR-CALNAME:vallgorguina@vallgorguina.cat
X-WR-TIMEZONE:Europe/Madrid
DESCRIPTION:
URI:https://www.vallgorguina.cat/actualitat/agenda/7457-oficina-mobil-dinformacio-al-consumidor.html
CLASS:PUBLIC
END:VEVENT
END:VCALENDAR
