BEGIN:VCALENDAR
VERSION:2.0
CALSCALE:GREGORIAN
PRODID:-//Diputació de Barcelona//DibaCMS//EN
BEGIN:VEVENT
UID:7458
DTSTAMP:20260422T165035
DTSTART:20181027T163000
DTEND:20181027T200000
SUMMARY:Castanyada a la Baronia
LOCATION:Plaça de la Font 
METHOD:PUBLISH
X-WR-CALNAME:vallgorguina@vallgorguina.cat
X-WR-TIMEZONE:Europe/Madrid
DESCRIPTION:
URI:https://www.vallgorguina.cat/actualitat/agenda/castanyada-a-la-baronia.html
CLASS:PUBLIC
END:VEVENT
END:VCALENDAR
