BEGIN:VCALENDAR
VERSION:2.0
CALSCALE:GREGORIAN
PRODID:-//Diputació de Barcelona//DibaCMS//EN
BEGIN:VEVENT
UID:7461
DTSTAMP:20260422T205418
DTSTART:20181010T181500
DTEND:20181219T191500
SUMMARY:Curs plantes medicinals el Caliu
LOCATION:Casal Caliu el Dolmen 
METHOD:PUBLISH
X-WR-CALNAME:vallgorguina@vallgorguina.cat
X-WR-TIMEZONE:Europe/Madrid
DESCRIPTION:Inici: dimecres 10 d'octubre de 18:15h a 19:15h . Duració: 10 classes.

URI:https://www.vallgorguina.cat/actualitat/agenda/curs-plantes-medicinals-el-caliu.html
CLASS:PUBLIC
END:VEVENT
END:VCALENDAR
