BEGIN:VCALENDAR
VERSION:2.0
CALSCALE:GREGORIAN
PRODID:-//Diputació de Barcelona//DibaCMS//EN
BEGIN:VEVENT
UID:7466
DTSTAMP:20260422T152759
DTSTART:20181031T170000
DTEND:20181031T200000
SUMMARY:Xocolatada Nit de Bruixes 2018
LOCATION:Plaça de la Vila 
METHOD:PUBLISH
X-WR-CALNAME:vallgorguina@vallgorguina.cat
X-WR-TIMEZONE:Europe/Madrid
DESCRIPTION:
URI:https://www.vallgorguina.cat/actualitat/agenda/xocolatada-nit-de-bruixes-2018.html
CLASS:PUBLIC
END:VEVENT
END:VCALENDAR
