BEGIN:VCALENDAR
VERSION:2.0
CALSCALE:GREGORIAN
PRODID:-//Diputació de Barcelona//DibaCMS//EN
BEGIN:VEVENT
UID:7480
DTSTAMP:20260422T171018
DTSTART:20181026T170000
DTEND:20181026T190000
SUMMARY:Jornada portes obertes Patins Vallgorguina
LOCATION:Poliesportiu 
METHOD:PUBLISH
X-WR-CALNAME:vallgorguina@vallgorguina.cat
X-WR-TIMEZONE:Europe/Madrid
DESCRIPTION:
URI:https://www.vallgorguina.cat/actualitat/agenda/jornada-portes-obertes-patins-vallgorguina.html
CLASS:PUBLIC
END:VEVENT
END:VCALENDAR
