BEGIN:VCALENDAR
VERSION:2.0
CALSCALE:GREGORIAN
PRODID:-//Diputació de Barcelona//DibaCMS//EN
BEGIN:VEVENT
UID:7496
DTSTAMP:20260422T150152
DTSTART:20181201T080000
DTEND:20181201T180000
SUMMARY:Celebració 20 anys Fundació Acció Baix Montseny
LOCATION:Plaça de la Vila, Sant Celoni 
METHOD:PUBLISH
X-WR-CALNAME:vallgorguina@vallgorguina.cat
X-WR-TIMEZONE:Europe/Madrid
DESCRIPTION:
URI:https://www.vallgorguina.cat/actualitat/agenda/celebracio-20-anys-fundacio-accio-baix-montseny.html
CLASS:PUBLIC
END:VEVENT
END:VCALENDAR
