BEGIN:VCALENDAR
VERSION:2.0
CALSCALE:GREGORIAN
PRODID:-//Diputació de Barcelona//DibaCMS//EN
BEGIN:VEVENT
UID:7505
DTSTAMP:20260422T184326
DTSTART:20181111T093000
DTEND:20181111T140000
SUMMARY:Matinal de bolets
LOCATION:Plaça de la Vila 
METHOD:PUBLISH
X-WR-CALNAME:vallgorguina@vallgorguina.cat
X-WR-TIMEZONE:Europe/Madrid
DESCRIPTION:
URI:https://www.vallgorguina.cat/actualitat/agenda/matinal-de-bolets.html
CLASS:PUBLIC
END:VEVENT
END:VCALENDAR
