BEGIN:VCALENDAR
VERSION:2.0
CALSCALE:GREGORIAN
PRODID:-//Diputació de Barcelona//DibaCMS//EN
BEGIN:VEVENT
UID:7515
DTSTAMP:20260422T132235
DTSTART:20181124T110000
DTEND:20181125T200000
SUMMARY:Mostra de pintura Sandra Mora
LOCATION:
METHOD:PUBLISH
X-WR-CALNAME:vallgorguina@vallgorguina.cat
X-WR-TIMEZONE:Europe/Madrid
DESCRIPTION:Mostra de Pintura Sandra Mora 24 i 25 de novembre de 11:00h a 14:00h i de 17:00h a 20:00h.

URI:https://www.vallgorguina.cat/actualitat/agenda/7515-mostra-de-pintura-sandra-mora.html
CLASS:PUBLIC
END:VEVENT
END:VCALENDAR
