BEGIN:VCALENDAR
VERSION:2.0
CALSCALE:GREGORIAN
PRODID:-//Diputació de Barcelona//DibaCMS//EN
BEGIN:VEVENT
UID:7517
DTSTAMP:20260422T153344
DTSTART:20181202T113000
DTEND:20181202T140000
SUMMARY:Anem a buscar el tió al bosc
LOCATION:
METHOD:PUBLISH
X-WR-CALNAME:vallgorguina@vallgorguina.cat
X-WR-TIMEZONE:Europe/Madrid
DESCRIPTION:Anem a buscar el Tió al bosc. Diumenge 2 de desembre a les 11:30h.

URI:https://www.vallgorguina.cat/actualitat/agenda/anem-a-buscar-el-tio-al-bosc.html
CLASS:PUBLIC
END:VEVENT
END:VCALENDAR
