BEGIN:VCALENDAR
VERSION:2.0
CALSCALE:GREGORIAN
PRODID:-//Diputació de Barcelona//DibaCMS//EN
BEGIN:VEVENT
UID:7527
DTSTAMP:20260422T132132
DTSTART:20181130T183000
DTEND:20181130T203000
SUMMARY:Reiki en grup
LOCATION:
METHOD:PUBLISH
X-WR-CALNAME:vallgorguina@vallgorguina.cat
X-WR-TIMEZONE:Europe/Madrid
DESCRIPTION:
URI:https://www.vallgorguina.cat/actualitat/agenda/7527-reiki-en-grup.html
CLASS:PUBLIC
END:VEVENT
END:VCALENDAR
