BEGIN:VCALENDAR
VERSION:2.0
CALSCALE:GREGORIAN
PRODID:-//Diputació de Barcelona//DibaCMS//EN
BEGIN:VEVENT
UID:7540
DTSTAMP:20260422T112400
DTSTART:20181204T180000
DTEND:20181204T200000
SUMMARY:Taller: Amenaces i riscos en l'ús d'internet i les xarxes socials
LOCATION:Sala d'Exposicions 
METHOD:PUBLISH
X-WR-CALNAME:vallgorguina@vallgorguina.cat
X-WR-TIMEZONE:Europe/Madrid
DESCRIPTION:
URI:https://www.vallgorguina.cat/actualitat/agenda/taller-amenaces-i-riscos-en-lus-dinternet-i-les-xarxes-socials.html
CLASS:PUBLIC
END:VEVENT
END:VCALENDAR
