BEGIN:VCALENDAR
VERSION:2.0
CALSCALE:GREGORIAN
PRODID:-//Diputació de Barcelona//DibaCMS//EN
BEGIN:VEVENT
UID:7542
DTSTAMP:20260422T151502
DTSTART:20181215T170000
DTEND:20181215T190000
SUMMARY:Jocs de taula a l'espai jove
LOCATION:Espai Jove 
METHOD:PUBLISH
X-WR-CALNAME:vallgorguina@vallgorguina.cat
X-WR-TIMEZONE:Europe/Madrid
DESCRIPTION:
URI:https://www.vallgorguina.cat/actualitat/agenda/7542-jocs-de-taula-a-lespai-jove.html
CLASS:PUBLIC
END:VEVENT
END:VCALENDAR
