BEGIN:VCALENDAR
VERSION:2.0
CALSCALE:GREGORIAN
PRODID:-//Diputació de Barcelona//DibaCMS//EN
BEGIN:VEVENT
UID:7543
DTSTAMP:20260422T131943
DTSTART:20181215T100000
DTEND:20181215T210000
SUMMARY:La Marató de TV3
LOCATION:
METHOD:PUBLISH
X-WR-CALNAME:vallgorguina@vallgorguina.cat
X-WR-TIMEZONE:Europe/Madrid
DESCRIPTION:Americana Femenina de 10:00h a 11:45h

Americana masculina de 11:45h a 13:30h

Al Dinàmic Pàdel. Inscripcions al 672.339.799

Quina 17h. a la Sala d'Exposicions

URI:https://www.vallgorguina.cat/actualitat/agenda/7543-la-marato-de-tv3.html
CLASS:PUBLIC
END:VEVENT
END:VCALENDAR
