BEGIN:VCALENDAR
VERSION:2.0
CALSCALE:GREGORIAN
PRODID:-//Diputació de Barcelona//DibaCMS//EN
BEGIN:VEVENT
UID:7546
DTSTAMP:20260422T204608
DTSTART:20181216T120000
DTEND:20181216T140000
SUMMARY:La Marató de TV3
LOCATION:
METHOD:PUBLISH
X-WR-CALNAME:vallgorguina@vallgorguina.cat
X-WR-TIMEZONE:Europe/Madrid
DESCRIPTION:Mandales  a les 12:00h al Local Jove

Pesada de panera a les 13:00h.

URI:https://www.vallgorguina.cat/actualitat/agenda/7546-la-marato-de-tv3.html
CLASS:PUBLIC
END:VEVENT
END:VCALENDAR
