BEGIN:VCALENDAR
VERSION:2.0
CALSCALE:GREGORIAN
PRODID:-//Diputació de Barcelona//DibaCMS//EN
BEGIN:VEVENT
UID:7548
DTSTAMP:20260422T204012
DTSTART:20181222T163000
DTEND:20181222T190000
SUMMARY:Festa de Nadal del Caliu
LOCATION:
METHOD:PUBLISH
X-WR-CALNAME:vallgorguina@vallgorguina.cat
X-WR-TIMEZONE:Europe/Madrid
DESCRIPTION:
URI:https://www.vallgorguina.cat/actualitat/agenda/festa-de-nadal-del-caliu.html
CLASS:PUBLIC
END:VEVENT
END:VCALENDAR
