BEGIN:VCALENDAR
VERSION:2.0
CALSCALE:GREGORIAN
PRODID:-//Diputació de Barcelona//DibaCMS//EN
BEGIN:VEVENT
UID:7549
DTSTAMP:20260422T125711
DTSTART:20181224T173000
DTEND:20181224T200000
SUMMARY:Caga tió a la Plaça de la Vila
LOCATION:
METHOD:PUBLISH
X-WR-CALNAME:vallgorguina@vallgorguina.cat
X-WR-TIMEZONE:Europe/Madrid
DESCRIPTION:
URI:https://www.vallgorguina.cat/actualitat/agenda/caga-tio-a-la-placa-de-la-vila.html
CLASS:PUBLIC
END:VEVENT
END:VCALENDAR
