BEGIN:VCALENDAR
VERSION:2.0
CALSCALE:GREGORIAN
PRODID:-//Diputació de Barcelona//DibaCMS//EN
BEGIN:VEVENT
UID:755
DTSTAMP:20260423T112044
DTSTART:20180210T163000
DTEND:20180210T190000
SUMMARY:Carnestoltes
LOCATION:
METHOD:PUBLISH
X-WR-CALNAME:vallgorguina@vallgorguina.cat
X-WR-TIMEZONE:Europe/Madrid
DESCRIPTION:
URI:https://www.vallgorguina.cat/actualitat/agenda/carnestoltes.html
CLASS:PUBLIC
END:VEVENT
END:VCALENDAR
