BEGIN:VCALENDAR
VERSION:2.0
CALSCALE:GREGORIAN
PRODID:-//Diputació de Barcelona//DibaCMS//EN
BEGIN:VEVENT
UID:7550
DTSTAMP:20260422T205748
DTSTART:20181229T193000
DTEND:20181229T210000
SUMMARY:Segon concert de Cap d'Any a La Fàbrica
LOCATION:
METHOD:PUBLISH
X-WR-CALNAME:vallgorguina@vallgorguina.cat
X-WR-TIMEZONE:Europe/Madrid
DESCRIPTION:Dia 29 de desembre de 2018 a les 19:30h. a La Fàbrica

URI:https://www.vallgorguina.cat/actualitat/agenda/segon-concert-de-cap-dany-a-la-fabrica.html
CLASS:PUBLIC
END:VEVENT
END:VCALENDAR
