BEGIN:VCALENDAR
VERSION:2.0
CALSCALE:GREGORIAN
PRODID:-//Diputació de Barcelona//DibaCMS//EN
BEGIN:VEVENT
UID:7551
DTSTAMP:20260422T071023
DTSTART:20181230T110000
DTEND:20181230T140000
SUMMARY:Arribada del Patge Reial
LOCATION:
METHOD:PUBLISH
X-WR-CALNAME:vallgorguina@vallgorguina.cat
X-WR-TIMEZONE:Europe/Madrid
DESCRIPTION:El Patge Reial a les 12:00h a la Sala d'Exposcions

A la Baronia del Montseny de 11.00h a 13:00h

URI:https://www.vallgorguina.cat/actualitat/agenda/arribada-del-patge-reial.html
CLASS:PUBLIC
END:VEVENT
END:VCALENDAR
