BEGIN:VCALENDAR
VERSION:2.0
CALSCALE:GREGORIAN
PRODID:-//Diputació de Barcelona//DibaCMS//EN
BEGIN:VEVENT
UID:7552
DTSTAMP:20260422T065502
DTSTART:20190104T170000
DTEND:20190104T190000
SUMMARY:Taller de fanalets 
LOCATION:
METHOD:PUBLISH
X-WR-CALNAME:vallgorguina@vallgorguina.cat
X-WR-TIMEZONE:Europe/Madrid
DESCRIPTION:Taller de fanalets al Caliu

URI:https://www.vallgorguina.cat/actualitat/agenda/taller-de-fanalets-.html
CLASS:PUBLIC
END:VEVENT
END:VCALENDAR
