BEGIN:VCALENDAR
VERSION:2.0
CALSCALE:GREGORIAN
PRODID:-//Diputació de Barcelona//DibaCMS//EN
BEGIN:VEVENT
UID:7553
DTSTAMP:20260422T065911
DTSTART:20190105T110000
DTEND:20190105T130000
SUMMARY:Taller de fanalets
LOCATION:
METHOD:PUBLISH
X-WR-CALNAME:vallgorguina@vallgorguina.cat
X-WR-TIMEZONE:Europe/Madrid
DESCRIPTION:Taller de fanalets (Fent Pinya) al Caliu

URI:https://www.vallgorguina.cat/actualitat/agenda/7553-taller-de-fanalets.html
CLASS:PUBLIC
END:VEVENT
END:VCALENDAR
