BEGIN:VCALENDAR
VERSION:2.0
CALSCALE:GREGORIAN
PRODID:-//Diputació de Barcelona//DibaCMS//EN
BEGIN:VEVENT
UID:7554
DTSTAMP:20260422T050526
DTSTART:20190105T180000
DTEND:20190105T210000
SUMMARY:Cavalcada dels Reis Mags pels carrers del poble
LOCATION:
METHOD:PUBLISH
X-WR-CALNAME:vallgorguina@vallgorguina.cat
X-WR-TIMEZONE:Europe/Madrid
DESCRIPTION:No es llençaran caramels durant el recorregut per motius de seguretat, es llançaran a la parada que faran a la Plaça Mossèn Saguer.

El recorregut acabarà davant l'Ajuntament.

L'accés a la Plaça serà per la pujada del costat de l'Església

URI:https://www.vallgorguina.cat/actualitat/agenda/cavalcada-dels-reis-mags-pels-carrers-del-poble.html
CLASS:PUBLIC
END:VEVENT
END:VCALENDAR
