BEGIN:VCALENDAR
VERSION:2.0
CALSCALE:GREGORIAN
PRODID:-//Diputació de Barcelona//DibaCMS//EN
BEGIN:VEVENT
UID:7565
DTSTAMP:20260422T113610
DTSTART:20181202T180000
DTEND:20181202T200000
SUMMARY:Taller Graffiti (Pinya Jove)
LOCATION:
METHOD:PUBLISH
X-WR-CALNAME:vallgorguina@vallgorguina.cat
X-WR-TIMEZONE:Europe/Madrid
DESCRIPTION:
URI:https://www.vallgorguina.cat/actualitat/agenda/taller-graffiti-pinya-jove.html
CLASS:PUBLIC
END:VEVENT
END:VCALENDAR
