BEGIN:VCALENDAR
VERSION:2.0
CALSCALE:GREGORIAN
PRODID:-//Diputació de Barcelona//DibaCMS//EN
BEGIN:VEVENT
UID:7572
DTSTAMP:20260422T150324
DTSTART:20181223T113000
DTEND:20181223T133000
SUMMARY:Taller de manualitats
LOCATION:
METHOD:PUBLISH
X-WR-CALNAME:vallgorguina@vallgorguina.cat
X-WR-TIMEZONE:Europe/Madrid
DESCRIPTION:Dia 23 de desembre de 2018 de 11:30h a 13:30h. a la Plaça Mn. Narcía Saguer

URI:https://www.vallgorguina.cat/actualitat/agenda/taller-de-manualitats.html
CLASS:PUBLIC
END:VEVENT
END:VCALENDAR
