BEGIN:VCALENDAR
VERSION:2.0
CALSCALE:GREGORIAN
PRODID:-//Diputació de Barcelona//DibaCMS//EN
BEGIN:VEVENT
UID:758
DTSTAMP:20260423T102708
DTSTART:20180127T193000
DTEND:20180127T210000
SUMMARY:Cinema a la Sala d'exposicions
LOCATION:
METHOD:PUBLISH
X-WR-CALNAME:vallgorguina@vallgorguina.cat
X-WR-TIMEZONE:Europe/Madrid
DESCRIPTION:
URI:https://www.vallgorguina.cat/actualitat/agenda/cinema-a-la-sala-dexposicions.html
CLASS:PUBLIC
END:VEVENT
END:VCALENDAR
