BEGIN:VCALENDAR
VERSION:2.0
CALSCALE:GREGORIAN
PRODID:-//Diputació de Barcelona//DibaCMS//EN
BEGIN:VEVENT
UID:759
DTSTAMP:20260423T080547
DTSTART:20180225T120000
DTEND:20180225T130000
SUMMARY:Tres tombs
LOCATION:
METHOD:PUBLISH
X-WR-CALNAME:vallgorguina@vallgorguina.cat
X-WR-TIMEZONE:Europe/Madrid
DESCRIPTION:
URI:https://www.vallgorguina.cat/actualitat/agenda/tres-tombs.html
CLASS:PUBLIC
END:VEVENT
END:VCALENDAR
