BEGIN:VCALENDAR
VERSION:2.0
CALSCALE:GREGORIAN
PRODID:-//Diputació de Barcelona//DibaCMS//EN
BEGIN:VEVENT
UID:7597
DTSTAMP:20260422T132044
DTSTART:20181223T090000
DTEND:20181223T140000
SUMMARY:Gran mercat de Nadal
LOCATION:
METHOD:PUBLISH
X-WR-CALNAME:vallgorguina@vallgorguina.cat
X-WR-TIMEZONE:Europe/Madrid
DESCRIPTION:
URI:https://www.vallgorguina.cat/actualitat/agenda/gran-mercat-de-nadal.html
CLASS:PUBLIC
END:VEVENT
END:VCALENDAR
