BEGIN:VCALENDAR
VERSION:2.0
CALSCALE:GREGORIAN
PRODID:-//Diputació de Barcelona//DibaCMS//EN
BEGIN:VEVENT
UID:760
DTSTAMP:20260423T043538
DTSTART:20180217T100000
DTEND:20180218T190000
SUMMARY:Fira d'aus
LOCATION:
METHOD:PUBLISH
X-WR-CALNAME:vallgorguina@vallgorguina.cat
X-WR-TIMEZONE:Europe/Madrid
DESCRIPTION:
URI:https://www.vallgorguina.cat/actualitat/agenda/fira-daus.html
CLASS:PUBLIC
END:VEVENT
END:VCALENDAR
