BEGIN:VCALENDAR
VERSION:2.0
CALSCALE:GREGORIAN
PRODID:-//Diputació de Barcelona//DibaCMS//EN
BEGIN:VEVENT
UID:761
DTSTAMP:20260423T082116
DTSTART:20180203T060000
DTEND:20180204T230000
SUMMARY:Ultratrail Montnegre-Corredor
LOCATION:
METHOD:PUBLISH
X-WR-CALNAME:vallgorguina@vallgorguina.cat
X-WR-TIMEZONE:Europe/Madrid
DESCRIPTION:
URI:https://www.vallgorguina.cat/actualitat/agenda/ultratrail-montnegre-corredor.html
CLASS:PUBLIC
END:VEVENT
END:VCALENDAR
