BEGIN:VCALENDAR
VERSION:2.0
CALSCALE:GREGORIAN
PRODID:-//Diputació de Barcelona//DibaCMS//EN
BEGIN:VEVENT
UID:7612
DTSTAMP:20260422T070635
DTSTART:20190116T113000
DTEND:20190116T123000
SUMMARY:Oficina mòbil d'informació al consumidor 
LOCATION:
METHOD:PUBLISH
X-WR-CALNAME:vallgorguina@vallgorguina.cat
X-WR-TIMEZONE:Europe/Madrid
DESCRIPTION:
URI:https://www.vallgorguina.cat/actualitat/agenda/7612-oficina-mobil-dinformacio-al-consumidor-.html
CLASS:PUBLIC
END:VEVENT
END:VCALENDAR
