BEGIN:VCALENDAR
VERSION:2.0
CALSCALE:GREGORIAN
PRODID:-//Diputació de Barcelona//DibaCMS//EN
BEGIN:VEVENT
UID:7624
DTSTAMP:20260421T153042
DTSTART:20190323T090000
DTEND:20190323T133000
SUMMARY:Monográfico El Juego y el Juguete
LOCATION:
METHOD:PUBLISH
X-WR-CALNAME:vallgorguina@vallgorguina.cat
X-WR-TIMEZONE:Europe/Madrid
DESCRIPTION:
URI:https://www.vallgorguina.cat/actualitat/agenda/7624-monografico-el-juego-y-el-juguete.html
CLASS:PUBLIC
END:VEVENT
END:VCALENDAR
