BEGIN:VCALENDAR
VERSION:2.0
CALSCALE:GREGORIAN
PRODID:-//Diputació de Barcelona//DibaCMS//EN
BEGIN:VEVENT
UID:7626
DTSTAMP:20260422T024316
DTSTART:20190216T090000
DTEND:20190216T133000
SUMMARY:Monográfico El Juego y el Juguete
LOCATION:
METHOD:PUBLISH
X-WR-CALNAME:vallgorguina@vallgorguina.cat
X-WR-TIMEZONE:Europe/Madrid
DESCRIPTION:
URI:https://www.vallgorguina.cat/actualitat/agenda/7626-monografico-el-juego-y-el-juguete.html
CLASS:PUBLIC
END:VEVENT
END:VCALENDAR
