BEGIN:VCALENDAR
VERSION:2.0
CALSCALE:GREGORIAN
PRODID:-//Diputació de Barcelona//DibaCMS//EN
BEGIN:VEVENT
UID:7631
DTSTAMP:20260422T065339
DTSTART:20190202T050000
DTEND:20190203T030000
SUMMARY:Ultra trail Montnegre-Corredor
LOCATION:
METHOD:PUBLISH
X-WR-CALNAME:vallgorguina@vallgorguina.cat
X-WR-TIMEZONE:Europe/Madrid
DESCRIPTION:
URI:https://www.vallgorguina.cat/actualitat/agenda/ultra-trail-montnegre-corredor.html
CLASS:PUBLIC
END:VEVENT
END:VCALENDAR
