BEGIN:VCALENDAR
VERSION:2.0
CALSCALE:GREGORIAN
PRODID:-//Diputació de Barcelona//DibaCMS//EN
BEGIN:VEVENT
UID:7632
DTSTAMP:20260422T065308
DTSTART:20190216T100000
DTEND:20190217T190000
SUMMARY:Fira d'aus a l'espai La Fàbrica
LOCATION:
METHOD:PUBLISH
X-WR-CALNAME:vallgorguina@vallgorguina.cat
X-WR-TIMEZONE:Europe/Madrid
DESCRIPTION:
URI:https://www.vallgorguina.cat/actualitat/agenda/fira-daus-a-lespai-la-fabrica.html
CLASS:PUBLIC
END:VEVENT
END:VCALENDAR
