BEGIN:VCALENDAR
VERSION:2.0
CALSCALE:GREGORIAN
PRODID:-//Diputació de Barcelona//DibaCMS//EN
BEGIN:VEVENT
UID:7633
DTSTAMP:20260422T023939
DTSTART:20190217T100000
DTEND:20190217T140000
SUMMARY:Mercat de pagès a la plaça Mossèn Narcís Saguer
LOCATION:
METHOD:PUBLISH
X-WR-CALNAME:vallgorguina@vallgorguina.cat
X-WR-TIMEZONE:Europe/Madrid
DESCRIPTION:
URI:https://www.vallgorguina.cat/actualitat/agenda/mercat-de-pages-a-la-placa-mossen-narcis-saguer.html
CLASS:PUBLIC
END:VEVENT
END:VCALENDAR
