BEGIN:VCALENDAR
VERSION:2.0
CALSCALE:GREGORIAN
PRODID:-//Diputació de Barcelona//DibaCMS//EN
BEGIN:VEVENT
UID:7634
DTSTAMP:20260421T153734
DTSTART:20190224T100000
DTEND:20190224T130000
SUMMARY:Els tres tombs
LOCATION:
METHOD:PUBLISH
X-WR-CALNAME:vallgorguina@vallgorguina.cat
X-WR-TIMEZONE:Europe/Madrid
DESCRIPTION:
URI:https://www.vallgorguina.cat/actualitat/agenda/7634-els-tres-tombs.html
CLASS:PUBLIC
END:VEVENT
END:VCALENDAR
