BEGIN:VCALENDAR
VERSION:2.0
CALSCALE:GREGORIAN
PRODID:-//Diputació de Barcelona//DibaCMS//EN
BEGIN:VEVENT
UID:7637
DTSTAMP:20260421T195821
DTSTART:20190302T170000
DTEND:20190302T210000
SUMMARY:Carnestoltes 2019
LOCATION:
METHOD:PUBLISH
X-WR-CALNAME:vallgorguina@vallgorguina.cat
X-WR-TIMEZONE:Europe/Madrid
DESCRIPTION:2 de març a les 17.00h Rua de Carnestoltes

URI:https://www.vallgorguina.cat/actualitat/agenda/carnestoltes-2019.html
CLASS:PUBLIC
END:VEVENT
END:VCALENDAR
