BEGIN:VCALENDAR
VERSION:2.0
CALSCALE:GREGORIAN
PRODID:-//Diputació de Barcelona//DibaCMS//EN
BEGIN:VEVENT
UID:7639
DTSTAMP:20260422T002111
DTSTART:20190216T170000
DTEND:20190216T190000
SUMMARY:Activitats per a Joves
LOCATION:
METHOD:PUBLISH
X-WR-CALNAME:vallgorguina@vallgorguina.cat
X-WR-TIMEZONE:Europe/Madrid
DESCRIPTION:Els dissabtes al Espai Jove ,Jocs, Tallers, Esport i Lleure

URI:https://www.vallgorguina.cat/actualitat/agenda/activitats-per-a-joves.html
CLASS:PUBLIC
END:VEVENT
END:VCALENDAR
