BEGIN:VCALENDAR
VERSION:2.0
CALSCALE:GREGORIAN
PRODID:-//Diputació de Barcelona//DibaCMS//EN
BEGIN:VEVENT
UID:7641
DTSTAMP:20260422T071145
DTSTART:20190119T110000
DTEND:20190119T130000
SUMMARY:Diada Gegantera a LLedoners
LOCATION:
METHOD:PUBLISH
X-WR-CALNAME:vallgorguina@vallgorguina.cat
X-WR-TIMEZONE:Europe/Madrid
DESCRIPTION:Trobada de gegants a Lledoners amb la col·laboració dels Gegants de Vallgorguina

URI:https://www.vallgorguina.cat/actualitat/agenda/diada-gegantera-a-lledoners.html
CLASS:PUBLIC
END:VEVENT
END:VCALENDAR
