BEGIN:VCALENDAR
VERSION:2.0
CALSCALE:GREGORIAN
PRODID:-//Diputació de Barcelona//DibaCMS//EN
BEGIN:VEVENT
UID:7645
DTSTAMP:20260421T083246
DTSTART:20190428T140000
DTEND:20190428T180000
SUMMARY:"30" aniversari del Caliu i festa Sant Jordi
LOCATION:
METHOD:PUBLISH
X-WR-CALNAME:vallgorguina@vallgorguina.cat
X-WR-TIMEZONE:Europe/Madrid
DESCRIPTION:
URI:https://www.vallgorguina.cat/actualitat/agenda/30-aniversari-del-caliu-i-festa-sant-jordi.html
CLASS:PUBLIC
END:VEVENT
END:VCALENDAR
