BEGIN:VCALENDAR
VERSION:2.0
CALSCALE:GREGORIAN
PRODID:-//Diputació de Barcelona//DibaCMS//EN
BEGIN:VEVENT
UID:7648
DTSTAMP:20260420T204813
DTSTART:20190720T180000
DTEND:20190720T235500
SUMMARY:Nocturna de petanca
LOCATION:
METHOD:PUBLISH
X-WR-CALNAME:vallgorguina@vallgorguina.cat
X-WR-TIMEZONE:Europe/Madrid
DESCRIPTION:A la Plaça de la Vila

URI:https://www.vallgorguina.cat/actualitat/agenda/nocturna-de-petanca.html
CLASS:PUBLIC
END:VEVENT
END:VCALENDAR
